BEGIN:VCALENDAR
VERSION:2.0
PRODID:-//NL//nl_eventpages//DE
CALSCALE:GREGORIAN
METHOD:PUBLISH
BEGIN:VEVENT
UID:event-578@www.monheimmitte.de
DTSTAMP:20260422T162019Z
DTSTART:20260612T153000Z
DTEND:20260612T163000Z
SUMMARY:Gänseliesellauf
LOCATION:Monheim Mitte
DESCRIPTION:Time: Fr\, 12. Juni | 15 – 19 Uhr
URL:/?id=578
END:VEVENT
END:VCALENDAR
