BEGIN:VCALENDAR
VERSION:2.0
PRODID:-//NL//nl_eventpages//DE
CALSCALE:GREGORIAN
METHOD:PUBLISH
BEGIN:VEVENT
UID:event-582@www.monheimmitte.de
DTSTAMP:20260422T151715Z
DTSTART:20260613T190000Z
DTEND:20260613T200000Z
SUMMARY:Gänselieselmarkt
LOCATION:Monheim Mitte und Altstadt
DESCRIPTION:Time: Sa\, 13. Juni | 9 – 17 Uhr
URL:/?id=582
END:VEVENT
END:VCALENDAR
