BEGIN:VCALENDAR
VERSION:2.0
PRODID:-//NL//nl_eventpages//DE
CALSCALE:GREGORIAN
METHOD:PUBLISH
BEGIN:VEVENT
UID:event-373@www.monheimmitte.de
DTSTAMP:20260422T151658Z
DTSTART:20260614T220000Z
DTEND:20260614T230000Z
SUMMARY:Stadtfest 2026
LOCATION:Monheim Mitte
DESCRIPTION:Time: 12. bis 14. Juni 2026
URL:/?id=373
END:VEVENT
END:VCALENDAR
