BEGIN:VCALENDAR
VERSION:2.0
PRODID:-//NL//nl_eventpages//DE
CALSCALE:GREGORIAN
METHOD:PUBLISH
BEGIN:VEVENT
UID:event-255@www.monheimmitte.de
DTSTAMP:20260422T151658Z
DTSTART:20250917T130000Z
DTEND:20250917T140000Z
SUMMARY:Wochenmarkt
LOCATION:Monheim Mitte
DESCRIPTION:Time: Mi und Sa | 8 — 13 Uhr
URL:/?id=255
END:VEVENT
END:VCALENDAR
